BEGIN:VCALENDAR
VERSION:2.0
PRODID:-//Joanne Gerber - ECPv6.15.20//NONSGML v1.0//EN
CALSCALE:GREGORIAN
METHOD:PUBLISH
X-WR-CALNAME:Joanne Gerber
X-ORIGINAL-URL:https://joannegerber.com
X-WR-CALDESC:Events for Joanne Gerber
REFRESH-INTERVAL;VALUE=DURATION:PT1H
X-Robots-Tag:noindex
X-PUBLISHED-TTL:PT1H
BEGIN:VTIMEZONE
TZID:America/New_York
BEGIN:DAYLIGHT
TZOFFSETFROM:-0500
TZOFFSETTO:-0400
TZNAME:EDT
DTSTART:20220313T070000
END:DAYLIGHT
BEGIN:STANDARD
TZOFFSETFROM:-0400
TZOFFSETTO:-0500
TZNAME:EST
DTSTART:20221106T060000
END:STANDARD
BEGIN:DAYLIGHT
TZOFFSETFROM:-0500
TZOFFSETTO:-0400
TZNAME:EDT
DTSTART:20230312T070000
END:DAYLIGHT
BEGIN:STANDARD
TZOFFSETFROM:-0400
TZOFFSETTO:-0500
TZNAME:EST
DTSTART:20231105T060000
END:STANDARD
BEGIN:DAYLIGHT
TZOFFSETFROM:-0500
TZOFFSETTO:-0400
TZNAME:EDT
DTSTART:20240310T070000
END:DAYLIGHT
BEGIN:STANDARD
TZOFFSETFROM:-0400
TZOFFSETTO:-0500
TZNAME:EST
DTSTART:20241103T060000
END:STANDARD
BEGIN:DAYLIGHT
TZOFFSETFROM:-0500
TZOFFSETTO:-0400
TZNAME:EDT
DTSTART:20250309T070000
END:DAYLIGHT
BEGIN:STANDARD
TZOFFSETFROM:-0400
TZOFFSETTO:-0500
TZNAME:EST
DTSTART:20251102T060000
END:STANDARD
BEGIN:DAYLIGHT
TZOFFSETFROM:-0500
TZOFFSETTO:-0400
TZNAME:EDT
DTSTART:20260308T070000
END:DAYLIGHT
BEGIN:STANDARD
TZOFFSETFROM:-0400
TZOFFSETTO:-0500
TZNAME:EST
DTSTART:20261101T060000
END:STANDARD
END:VTIMEZONE
BEGIN:VEVENT
DTSTART;TZID=America/New_York:20250329T103000
DTEND;TZID=America/New_York:20250329T120000
DTSTAMP:20260423T153827
CREATED:20230720T131843Z
LAST-MODIFIED:20250122T175213Z
UID:683-1743244200-1743249600@joannegerber.com
SUMMARY:Accessing Your Intuition - Twelve Week Remote Class - Class 11
DESCRIPTION:Beginner Level Psychic and Spiritual Development Class with Reverend Joanne Gerber – Class 11 of 12 – CLASS IS FULL
URL:https://joannegerber.com/event/accessing-your-intuition-twelve-week-remote-class-16/
CATEGORIES:Classes,Online Events
END:VEVENT
BEGIN:VEVENT
DTSTART;TZID=America/New_York:20250316T103000
DTEND;TZID=America/New_York:20250316T120000
DTSTAMP:20260423T153827
CREATED:20250122T180329Z
LAST-MODIFIED:20250122T180329Z
UID:907-1742121000-1742126400@joannegerber.com
SUMMARY:The Swampscott Spiritualist Church
DESCRIPTION:Join us as Reverend Joanne Gerber will be serving at the 10:30 AM EST Spiritualist service as she presents the lecture and demonstration of spirit communication. The service will be offered both in person and by Zoom\, and is open to the public. Please visit church website for more details.
URL:https://joannegerber.com/event/the-swampscott-spiritualist-church/
LOCATION:The Swampscott Spiritualist Church\, 15 Burrill Street\, Swampscott\, MA\, 01907\, United States
CATEGORIES:In Person Event
END:VEVENT
BEGIN:VEVENT
DTSTART;TZID=America/New_York:20250315T103000
DTEND;TZID=America/New_York:20250315T120000
DTSTAMP:20260423T153827
CREATED:20230720T131842Z
LAST-MODIFIED:20250122T175329Z
UID:682-1742034600-1742040000@joannegerber.com
SUMMARY:Accessing Your Intuition - Twelve Week Remote Class - Class 10
DESCRIPTION:Beginner Level Psychic and Spiritual Development Class with Reverend Joanne Gerber – Class 10 of 12 \nCLASS IS FULL
URL:https://joannegerber.com/event/accessing-your-intuition-twelve-week-remote-class-15/
CATEGORIES:Classes,Online Events
END:VEVENT
BEGIN:VEVENT
DTSTART;TZID=America/New_York:20250308T103000
DTEND;TZID=America/New_York:20250308T120000
DTSTAMP:20260423T153827
CREATED:20250122T175936Z
LAST-MODIFIED:20250122T175953Z
UID:903-1741429800-1741435200@joannegerber.com
SUMMARY:The Goddess Group – A Remote Spiritual Development Group for Women  - Class 1 of 7
DESCRIPTION:The Goddess Group – A Remote Spiritual Development Group for Women  – Class 1 of 7 \nA FEW SPOTS LEFT – REGISTRATION IS OPEN – A SERIES OF SEVEN CLASSES- FOR MORE DETAILS\, PLEASE SEND AN EMAIL TO JOANNE@JOANNEGERBER.COM
URL:https://joannegerber.com/event/the-goddess-group-a-remote-spiritual-development-group-for-women-class-1-of-7/
CATEGORIES:Classes,Online Events
END:VEVENT
BEGIN:VEVENT
DTSTART;TZID=America/New_York:20250301T103000
DTEND;TZID=America/New_York:20250301T120000
DTSTAMP:20260423T153827
CREATED:20230720T131842Z
LAST-MODIFIED:20250122T175429Z
UID:681-1740825000-1740830400@joannegerber.com
SUMMARY:Accessing Your Intuition - Twelve Week Remote Class - Class 9
DESCRIPTION:Beginner Level Psychic and Spiritual Development Class with Reverend Joanne Gerber – Class 9 – CLASS IS FULL
URL:https://joannegerber.com/event/accessing-your-intuition-twelve-week-remote-class-14/
CATEGORIES:Classes,Online Events
END:VEVENT
BEGIN:VEVENT
DTSTART;TZID=America/New_York:20250215T103000
DTEND;TZID=America/New_York:20250215T120000
DTSTAMP:20260423T153827
CREATED:20230720T131841Z
LAST-MODIFIED:20250122T175549Z
UID:680-1739615400-1739620800@joannegerber.com
SUMMARY:Accessing Your Intuition - Twelve Week Remote Class - Class 8
DESCRIPTION:Beginner Level Psychic and Spiritual Development Class with Reverend Joanne Gerber – Class 8 – CLASS IS FULL
URL:https://joannegerber.com/event/accessing-your-intuition-twelve-week-remote-class-13/
CATEGORIES:Classes,Online Events
END:VEVENT
BEGIN:VEVENT
DTSTART;TZID=America/New_York:20250201T103000
DTEND;TZID=America/New_York:20250201T120000
DTSTAMP:20260423T153827
CREATED:20230720T131800Z
LAST-MODIFIED:20250122T175653Z
UID:679-1738405800-1738411200@joannegerber.com
SUMMARY:Accessing Your Intuition - Twelve Week Remote Class – Class 7
DESCRIPTION:Beginner Level Psychic and Spiritual Development Class with Reverend Joanne Gerber – Class 7 – Class is FULL
URL:https://joannegerber.com/event/accessing-your-intuition-twelve-week-remote-class-12/
CATEGORIES:Classes,Online Events
END:VEVENT
BEGIN:VEVENT
DTSTART;TZID=America/New_York:20250125T103000
DTEND;TZID=America/New_York:20250125T123000
DTSTAMP:20260423T153827
CREATED:20250122T175817Z
LAST-MODIFIED:20250122T175817Z
UID:900-1737801000-1737808200@joannegerber.com
SUMMARY:The Goddess Group – A Remote Spiritual Development group for Women  - Class 7 of 7
DESCRIPTION:The Goddess Group – A Remote Spiritual Development group for Women  – Class 7 of 7 – Class is Full
URL:https://joannegerber.com/event/the-goddess-group-a-remote-spiritual-development-group-for-women-class-7-of-7/
CATEGORIES:Classes,Online Events
END:VEVENT
BEGIN:VEVENT
DTSTART;TZID=America/New_York:20231223T000000
DTEND;TZID=America/New_York:20231223T000000
DTSTAMP:20260423T153827
CREATED:20230720T132102Z
LAST-MODIFIED:20230720T132102Z
UID:694-1703289600-1703289600@joannegerber.com
SUMMARY:Online Event with Reverend Joanne Gerber and Reverend Rita Berkowitz
DESCRIPTION:Check back or sign up for Joanne’s newsletter for more information\, coming soon!
URL:https://joannegerber.com/event/online-event-with-reverend-joanne-gerber-and-reverend-rita-berkowitz/
CATEGORIES:Online Events
END:VEVENT
BEGIN:VEVENT
DTSTART;TZID=America/New_York:20231202T103000
DTEND;TZID=America/New_York:20231202T120000
DTSTAMP:20260423T153827
CREATED:20230720T131800Z
LAST-MODIFIED:20230720T131800Z
UID:678-1701513000-1701518400@joannegerber.com
SUMMARY:Accessing Your Intuition - Twelve Week Remote Class
DESCRIPTION:Beginner Level Psychic and Spiritual Development Class with Reverend Joanne Gerber – Class 6
URL:https://joannegerber.com/event/accessing-your-intuition-twelve-week-remote-class-11/
CATEGORIES:Classes,Online Events
END:VEVENT
BEGIN:VEVENT
DTSTART;TZID=America/New_York:20231118T103000
DTEND;TZID=America/New_York:20231118T120000
DTSTAMP:20260423T153827
CREATED:20230720T131759Z
LAST-MODIFIED:20230720T131759Z
UID:677-1700303400-1700308800@joannegerber.com
SUMMARY:Accessing Your Intuition - Twelve Week Remote Class
DESCRIPTION:Beginner Level Psychic and Spiritual Development Class with Reverend Joanne Gerber – Class 5
URL:https://joannegerber.com/event/accessing-your-intuition-twelve-week-remote-class-10/
CATEGORIES:Classes,Online Events
END:VEVENT
BEGIN:VEVENT
DTSTART;TZID=America/New_York:20231116T200000
DTEND;TZID=America/New_York:20231116T210000
DTSTAMP:20260423T153827
CREATED:20230720T132101Z
LAST-MODIFIED:20230720T132101Z
UID:693-1700164800-1700168400@joannegerber.com
SUMMARY:Guest Appearance on Forever Family Foundation Signs of Life Radio Mediums and Messages
DESCRIPTION:Internet Radio Hosted by Bob Ginsburg. Signs of Life Radio Show is a unique radio show dedicated to the exploration of Life After Death! Call In or just listen to top Scientists\, Mediums\, and Researchers discuss their personal work in the field and answer your most perplexing questions. Topics will include: Mediumship\, Near Death Experiences\, Death Bed Visions\, Reincarnation\, Apparitions and Poltergeists\, After Death Communication\, ESP and Telepathy\, Survival of Consciousness\, and the list is endless! To Ask a Question or Participate in the Conversation: 888-627-6008 or 323-744-4831 or listen at https://bbsradio.com/html5_player/html5_player.htm
URL:https://joannegerber.com/event/guest-appearance-on-forever-family-foundation-signs-of-life-radio-mediums-and-messages-2/
CATEGORIES:Radio Appearance
END:VEVENT
BEGIN:VEVENT
DTSTART;TZID=America/New_York:20231112T103000
DTEND;TZID=America/New_York:20231112T120000
DTSTAMP:20260423T153827
CREATED:20230720T132100Z
LAST-MODIFIED:20230720T150052Z
UID:692-1699785000-1699790400@joannegerber.com
SUMMARY:Reverend Joanne Gerber Lecture and Mediumship Demonstration
DESCRIPTION:Live & via ZOOM at Sunday Service at The Spiritualist Church of Love and Light\, BRIDGE Healing Arts\, 304 Main Street\, Center\, Farmington\, CT 06032
URL:https://joannegerber.com/event/reverend-joanne-gerber-lecture-and-mediumship-demonstration-7/
CATEGORIES:In Person Event,Online Events
END:VEVENT
BEGIN:VEVENT
DTSTART;TZID=America/New_York:20231105T183000
DTEND;TZID=America/New_York:20231105T210000
DTSTAMP:20260423T153827
CREATED:20230720T132100Z
LAST-MODIFIED:20230720T150054Z
UID:691-1699209000-1699218000@joannegerber.com
SUMMARY:Reverend Joanne Gerber Lecture and Mediumship Demonstration
DESCRIPTION:Live & via ZOOM at Sunday Service at The First Spiritualist Church of Onset\, 17 Highland Ave.\, Onset\, MA
URL:https://joannegerber.com/event/reverend-joanne-gerber-lecture-and-mediumship-demonstration-6/
CATEGORIES:In Person Event,Online Events
END:VEVENT
BEGIN:VEVENT
DTSTART;TZID=America/New_York:20231104T103000
DTEND;TZID=America/New_York:20231104T120000
DTSTAMP:20260423T153827
CREATED:20230720T131758Z
LAST-MODIFIED:20230720T131758Z
UID:676-1699093800-1699099200@joannegerber.com
SUMMARY:Accessing Your Intuition - Twelve Week Remote Class
DESCRIPTION:Beginner Level Psychic and Spiritual Development Class with Reverend Joanne Gerber – Class 4
URL:https://joannegerber.com/event/accessing-your-intuition-twelve-week-remote-class-9/
CATEGORIES:Classes,Online Events
END:VEVENT
BEGIN:VEVENT
DTSTART;TZID=America/New_York:20231021T103000
DTEND;TZID=America/New_York:20231021T120000
DTSTAMP:20260423T153827
CREATED:20230720T131757Z
LAST-MODIFIED:20230720T131757Z
UID:675-1697884200-1697889600@joannegerber.com
SUMMARY:Accessing Your Intuition - Twelve Week Remote Class
DESCRIPTION:Beginner Level Psychic and Spiritual Development Class with Reverend Joanne Gerber – Class 3
URL:https://joannegerber.com/event/accessing-your-intuition-twelve-week-remote-class-8/
CATEGORIES:Classes,Online Events
END:VEVENT
BEGIN:VEVENT
DTSTART;TZID=America/New_York:20231008T110000
DTEND;TZID=America/New_York:20231008T123000
DTSTAMP:20260423T153827
CREATED:20230720T132058Z
LAST-MODIFIED:20230720T150054Z
UID:690-1696762800-1696768200@joannegerber.com
SUMMARY:Reverend Joanne Gerber Lecture and Mediumship Demonstration
DESCRIPTION:Live & via ZOOM at Sunday Service at The First Spiritualist Church of Quincy\, 40 West Street\, Quincy\, MA
URL:https://joannegerber.com/event/reverend-joanne-gerber-lecture-and-mediumship-demonstration-5/
CATEGORIES:In Person Event,Online Events
END:VEVENT
BEGIN:VEVENT
DTSTART;TZID=America/New_York:20231007T103000
DTEND;TZID=America/New_York:20231007T120000
DTSTAMP:20260423T153827
CREATED:20230720T131600Z
LAST-MODIFIED:20230720T131600Z
UID:674-1696674600-1696680000@joannegerber.com
SUMMARY:Accessing Your Intuition - Twelve Week Remote Class
DESCRIPTION:Beginner Level Psychic and Spiritual Development Class with Reverend Joanne Gerber – Class 2
URL:https://joannegerber.com/event/accessing-your-intuition-twelve-week-remote-class-7/
CATEGORIES:Classes,Online Events
END:VEVENT
BEGIN:VEVENT
DTSTART;TZID=America/New_York:20231001T103000
DTEND;TZID=America/New_York:20231001T120000
DTSTAMP:20260423T153827
CREATED:20230720T131900Z
LAST-MODIFIED:20230720T150055Z
UID:689-1696156200-1696161600@joannegerber.com
SUMMARY:Reverend Joanne Gerber Lecture and Mediumship Demonstration
DESCRIPTION:Live & via ZOOM at Sunday Service at The Swampscott Spiritualist Church\, 59 Burrill Street\, Swampscott\, MA 01907
URL:https://joannegerber.com/event/reverend-joanne-gerber-lecture-and-mediumship-demonstration-4/
CATEGORIES:In Person Event,Online Events
END:VEVENT
BEGIN:VEVENT
DTSTART;TZID=America/New_York:20230923T103000
DTEND;TZID=America/New_York:20230923T120000
DTSTAMP:20260423T153827
CREATED:20230720T131559Z
LAST-MODIFIED:20230720T131559Z
UID:673-1695465000-1695470400@joannegerber.com
SUMMARY:Accessing Your Intuition - Twelve Week Remote Class
DESCRIPTION:Beginner Level Psychic and Spiritual Development Class with Reverend Joanne Gerber – Class 1
URL:https://joannegerber.com/event/accessing-your-intuition-twelve-week-remote-class-6/
CATEGORIES:Classes,Online Events
END:VEVENT
BEGIN:VEVENT
DTSTART;TZID=America/New_York:20230917T183000
DTEND;TZID=America/New_York:20230917T210000
DTSTAMP:20260423T153827
CREATED:20230720T131900Z
LAST-MODIFIED:20230720T150055Z
UID:688-1694975400-1694984400@joannegerber.com
SUMMARY:Reverend Joanne Gerber Lecture and Mediumship Demonstration
DESCRIPTION:Live & via ZOOM at Sunday Service at The First Spiritualist Church of Onset\, 17 Highland Ave. Onset\, MA
URL:https://joannegerber.com/event/reverend-joanne-gerber-lecture-and-mediumship-demonstration-3/
CATEGORIES:In Person Event,Online Events
END:VEVENT
BEGIN:VEVENT
DTSTART;TZID=America/New_York:20230914T200000
DTEND;TZID=America/New_York:20230914T210000
DTSTAMP:20260423T153827
CREATED:20230720T131859Z
LAST-MODIFIED:20230720T131859Z
UID:687-1694721600-1694725200@joannegerber.com
SUMMARY:Guest Appearance on Forever Family Foundation Signs of Life Radio Mediums and Messages
DESCRIPTION:Internet Radio Hosted by Roman Karpishka. Topics and formats of each show vary by week and include discussions about a variety of topics related to life after death. This Show Format invites questions from listeners and gets into the mind of the medium. No readings will take place during this show. To Ask a Question or Participate in the Conversation: 1-888-627-6008 or 1-323-744-4831.
URL:https://joannegerber.com/event/guest-appearance-on-forever-family-foundation-signs-of-life-radio-mediums-and-messages/
CATEGORIES:Radio Appearance
END:VEVENT
BEGIN:VEVENT
DTSTART;TZID=America/New_York:20230819T103000
DTEND;TZID=America/New_York:20230819T120000
DTSTAMP:20260423T153827
CREATED:20230720T131558Z
LAST-MODIFIED:20230720T131558Z
UID:671-1692441000-1692446400@joannegerber.com
SUMMARY:Spiritual Development Continuation Classes
DESCRIPTION:Intermediate Level with Reverend Joanne Gerber via Zoom: Spring Session – Class 12
URL:https://joannegerber.com/event/spiritual-development-continuation-classes-12/
CATEGORIES:Classes,Online Events
END:VEVENT
BEGIN:VEVENT
DTSTART;TZID=America/New_York:20230805T103000
DTEND;TZID=America/New_York:20230805T120000
DTSTAMP:20260423T153827
CREATED:20230720T131557Z
LAST-MODIFIED:20230720T131557Z
UID:670-1691231400-1691236800@joannegerber.com
SUMMARY:Spiritual Development Continuation Classes
DESCRIPTION:Intermediate Level with Reverend Joanne Gerber via Zoom: Spring Session – Class 11
URL:https://joannegerber.com/event/spiritual-development-continuation-classes-11/
CATEGORIES:Classes,Online Events
END:VEVENT
BEGIN:VEVENT
DTSTART;TZID=America/New_York:20230722T103000
DTEND;TZID=America/New_York:20230722T120000
DTSTAMP:20260423T153827
CREATED:20230720T131509Z
LAST-MODIFIED:20230720T131509Z
UID:669-1690021800-1690027200@joannegerber.com
SUMMARY:Spiritual Development Continuation Classes
DESCRIPTION:Intermediate Level with Reverend Joanne Gerber via Zoom: Spring Session – Class 10
URL:https://joannegerber.com/event/spiritual-development-continuation-classes-10/
CATEGORIES:Classes,Online Events
END:VEVENT
BEGIN:VEVENT
DTSTART;TZID=America/New_York:20230708T103000
DTEND;TZID=America/New_York:20230708T120000
DTSTAMP:20260423T153827
CREATED:20230720T131508Z
LAST-MODIFIED:20230720T131508Z
UID:668-1688812200-1688817600@joannegerber.com
SUMMARY:Spiritual Development Continuation Classes
DESCRIPTION:Intermediate Level with Reverend Joanne Gerber via Zoom: Spring Session – Class 9
URL:https://joannegerber.com/event/spiritual-development-continuation-classes-9/
CATEGORIES:Classes,Online Events
END:VEVENT
BEGIN:VEVENT
DTSTART;TZID=America/New_York:20230617T103000
DTEND;TZID=America/New_York:20230617T120000
DTSTAMP:20260423T153827
CREATED:20230720T131508Z
LAST-MODIFIED:20230720T131508Z
UID:667-1686997800-1687003200@joannegerber.com
SUMMARY:Spiritual Development Continuation Classes
DESCRIPTION:Intermediate Level with Reverend Joanne Gerber via Zoom: Spring Session – Class 8
URL:https://joannegerber.com/event/spiritual-development-continuation-classes-8/
CATEGORIES:Classes,Online Events
END:VEVENT
BEGIN:VEVENT
DTSTART;TZID=America/New_York:20230603T103000
DTEND;TZID=America/New_York:20230603T120000
DTSTAMP:20260423T153827
CREATED:20230720T131507Z
LAST-MODIFIED:20230720T131507Z
UID:666-1685788200-1685793600@joannegerber.com
SUMMARY:Spiritual Development Continuation Classes
DESCRIPTION:Intermediate Level with Reverend Joanne Gerber via Zoom: Spring Session – Class 7
URL:https://joannegerber.com/event/spiritual-development-continuation-classes-7/
CATEGORIES:Classes,Online Events
END:VEVENT
BEGIN:VEVENT
DTSTART;TZID=America/New_York:20230521T103000
DTEND;TZID=America/New_York:20230521T120000
DTSTAMP:20260423T153827
CREATED:20230720T131858Z
LAST-MODIFIED:20230720T150056Z
UID:686-1684665000-1684670400@joannegerber.com
SUMMARY:Reverend Joanne Gerber Lecture and Mediumship Demonstration
DESCRIPTION:Live & via ZOOM at Sunday Service at The Swampscott Spiritualist Church\, 59 Burrill Street\, Swampscott\, MA 01907
URL:https://joannegerber.com/event/reverend-joanne-gerber-lecture-and-mediumship-demonstration-2/
CATEGORIES:In Person Event,Online Events
END:VEVENT
BEGIN:VEVENT
DTSTART;TZID=America/New_York:20230520T103000
DTEND;TZID=America/New_York:20230520T120000
DTSTAMP:20260423T153827
CREATED:20230720T131507Z
LAST-MODIFIED:20230720T131507Z
UID:665-1684578600-1684584000@joannegerber.com
SUMMARY:Spiritual Development Continuation Classes
DESCRIPTION:Intermediate Level with Reverend Joanne Gerber via Zoom: Spring Session – Class 6
URL:https://joannegerber.com/event/spiritual-development-continuation-classes-6/
CATEGORIES:Classes,Online Events
END:VEVENT
END:VCALENDAR