BEGIN:VCALENDAR
VERSION:2.0
PRODID:-//Joanne Gerber - ECPv6.15.20//NONSGML v1.0//EN
CALSCALE:GREGORIAN
METHOD:PUBLISH
X-ORIGINAL-URL:https://joannegerber.com
X-WR-CALDESC:Events for Joanne Gerber
REFRESH-INTERVAL;VALUE=DURATION:PT1H
X-Robots-Tag:noindex
X-PUBLISHED-TTL:PT1H
BEGIN:VTIMEZONE
TZID:America/New_York
BEGIN:DAYLIGHT
TZOFFSETFROM:-0500
TZOFFSETTO:-0400
TZNAME:EDT
DTSTART:20220313T070000
END:DAYLIGHT
BEGIN:STANDARD
TZOFFSETFROM:-0400
TZOFFSETTO:-0500
TZNAME:EST
DTSTART:20221106T060000
END:STANDARD
BEGIN:DAYLIGHT
TZOFFSETFROM:-0500
TZOFFSETTO:-0400
TZNAME:EDT
DTSTART:20230312T070000
END:DAYLIGHT
BEGIN:STANDARD
TZOFFSETFROM:-0400
TZOFFSETTO:-0500
TZNAME:EST
DTSTART:20231105T060000
END:STANDARD
BEGIN:DAYLIGHT
TZOFFSETFROM:-0500
TZOFFSETTO:-0400
TZNAME:EDT
DTSTART:20240310T070000
END:DAYLIGHT
BEGIN:STANDARD
TZOFFSETFROM:-0400
TZOFFSETTO:-0500
TZNAME:EST
DTSTART:20241103T060000
END:STANDARD
END:VTIMEZONE
BEGIN:VEVENT
DTSTART;TZID=America/New_York:20231008T110000
DTEND;TZID=America/New_York:20231008T123000
DTSTAMP:20260423T170019
CREATED:20230720T132058Z
LAST-MODIFIED:20230720T150054Z
UID:690-1696762800-1696768200@joannegerber.com
SUMMARY:Reverend Joanne Gerber Lecture and Mediumship Demonstration
DESCRIPTION:Live & via ZOOM at Sunday Service at The First Spiritualist Church of Quincy\, 40 West Street\, Quincy\, MA
URL:https://joannegerber.com/event/reverend-joanne-gerber-lecture-and-mediumship-demonstration-5/
CATEGORIES:In Person Event,Online Events
END:VEVENT
BEGIN:VEVENT
DTSTART;TZID=America/New_York:20231007T103000
DTEND;TZID=America/New_York:20231007T120000
DTSTAMP:20260423T170019
CREATED:20230720T131600Z
LAST-MODIFIED:20230720T131600Z
UID:674-1696674600-1696680000@joannegerber.com
SUMMARY:Accessing Your Intuition - Twelve Week Remote Class
DESCRIPTION:Beginner Level Psychic and Spiritual Development Class with Reverend Joanne Gerber – Class 2
URL:https://joannegerber.com/event/accessing-your-intuition-twelve-week-remote-class-7/
CATEGORIES:Classes,Online Events
END:VEVENT
BEGIN:VEVENT
DTSTART;TZID=America/New_York:20231001T103000
DTEND;TZID=America/New_York:20231001T120000
DTSTAMP:20260423T170019
CREATED:20230720T131900Z
LAST-MODIFIED:20230720T150055Z
UID:689-1696156200-1696161600@joannegerber.com
SUMMARY:Reverend Joanne Gerber Lecture and Mediumship Demonstration
DESCRIPTION:Live & via ZOOM at Sunday Service at The Swampscott Spiritualist Church\, 59 Burrill Street\, Swampscott\, MA 01907
URL:https://joannegerber.com/event/reverend-joanne-gerber-lecture-and-mediumship-demonstration-4/
CATEGORIES:In Person Event,Online Events
END:VEVENT
BEGIN:VEVENT
DTSTART;TZID=America/New_York:20230923T103000
DTEND;TZID=America/New_York:20230923T120000
DTSTAMP:20260423T170019
CREATED:20230720T131559Z
LAST-MODIFIED:20230720T131559Z
UID:673-1695465000-1695470400@joannegerber.com
SUMMARY:Accessing Your Intuition - Twelve Week Remote Class
DESCRIPTION:Beginner Level Psychic and Spiritual Development Class with Reverend Joanne Gerber – Class 1
URL:https://joannegerber.com/event/accessing-your-intuition-twelve-week-remote-class-6/
CATEGORIES:Classes,Online Events
END:VEVENT
BEGIN:VEVENT
DTSTART;TZID=America/New_York:20230917T183000
DTEND;TZID=America/New_York:20230917T210000
DTSTAMP:20260423T170019
CREATED:20230720T131900Z
LAST-MODIFIED:20230720T150055Z
UID:688-1694975400-1694984400@joannegerber.com
SUMMARY:Reverend Joanne Gerber Lecture and Mediumship Demonstration
DESCRIPTION:Live & via ZOOM at Sunday Service at The First Spiritualist Church of Onset\, 17 Highland Ave. Onset\, MA
URL:https://joannegerber.com/event/reverend-joanne-gerber-lecture-and-mediumship-demonstration-3/
CATEGORIES:In Person Event,Online Events
END:VEVENT
BEGIN:VEVENT
DTSTART;TZID=America/New_York:20230914T200000
DTEND;TZID=America/New_York:20230914T210000
DTSTAMP:20260423T170019
CREATED:20230720T131859Z
LAST-MODIFIED:20230720T131859Z
UID:687-1694721600-1694725200@joannegerber.com
SUMMARY:Guest Appearance on Forever Family Foundation Signs of Life Radio Mediums and Messages
DESCRIPTION:Internet Radio Hosted by Roman Karpishka. Topics and formats of each show vary by week and include discussions about a variety of topics related to life after death. This Show Format invites questions from listeners and gets into the mind of the medium. No readings will take place during this show. To Ask a Question or Participate in the Conversation: 1-888-627-6008 or 1-323-744-4831.
URL:https://joannegerber.com/event/guest-appearance-on-forever-family-foundation-signs-of-life-radio-mediums-and-messages/
CATEGORIES:Radio Appearance
END:VEVENT
BEGIN:VEVENT
DTSTART;TZID=America/New_York:20230819T103000
DTEND;TZID=America/New_York:20230819T120000
DTSTAMP:20260423T170019
CREATED:20230720T131558Z
LAST-MODIFIED:20230720T131558Z
UID:671-1692441000-1692446400@joannegerber.com
SUMMARY:Spiritual Development Continuation Classes
DESCRIPTION:Intermediate Level with Reverend Joanne Gerber via Zoom: Spring Session – Class 12
URL:https://joannegerber.com/event/spiritual-development-continuation-classes-12/
CATEGORIES:Classes,Online Events
END:VEVENT
BEGIN:VEVENT
DTSTART;TZID=America/New_York:20230805T103000
DTEND;TZID=America/New_York:20230805T120000
DTSTAMP:20260423T170019
CREATED:20230720T131557Z
LAST-MODIFIED:20230720T131557Z
UID:670-1691231400-1691236800@joannegerber.com
SUMMARY:Spiritual Development Continuation Classes
DESCRIPTION:Intermediate Level with Reverend Joanne Gerber via Zoom: Spring Session – Class 11
URL:https://joannegerber.com/event/spiritual-development-continuation-classes-11/
CATEGORIES:Classes,Online Events
END:VEVENT
BEGIN:VEVENT
DTSTART;TZID=America/New_York:20230722T103000
DTEND;TZID=America/New_York:20230722T120000
DTSTAMP:20260423T170019
CREATED:20230720T131509Z
LAST-MODIFIED:20230720T131509Z
UID:669-1690021800-1690027200@joannegerber.com
SUMMARY:Spiritual Development Continuation Classes
DESCRIPTION:Intermediate Level with Reverend Joanne Gerber via Zoom: Spring Session – Class 10
URL:https://joannegerber.com/event/spiritual-development-continuation-classes-10/
CATEGORIES:Classes,Online Events
END:VEVENT
BEGIN:VEVENT
DTSTART;TZID=America/New_York:20230708T103000
DTEND;TZID=America/New_York:20230708T120000
DTSTAMP:20260423T170019
CREATED:20230720T131508Z
LAST-MODIFIED:20230720T131508Z
UID:668-1688812200-1688817600@joannegerber.com
SUMMARY:Spiritual Development Continuation Classes
DESCRIPTION:Intermediate Level with Reverend Joanne Gerber via Zoom: Spring Session – Class 9
URL:https://joannegerber.com/event/spiritual-development-continuation-classes-9/
CATEGORIES:Classes,Online Events
END:VEVENT
BEGIN:VEVENT
DTSTART;TZID=America/New_York:20230617T103000
DTEND;TZID=America/New_York:20230617T120000
DTSTAMP:20260423T170019
CREATED:20230720T131508Z
LAST-MODIFIED:20230720T131508Z
UID:667-1686997800-1687003200@joannegerber.com
SUMMARY:Spiritual Development Continuation Classes
DESCRIPTION:Intermediate Level with Reverend Joanne Gerber via Zoom: Spring Session – Class 8
URL:https://joannegerber.com/event/spiritual-development-continuation-classes-8/
CATEGORIES:Classes,Online Events
END:VEVENT
BEGIN:VEVENT
DTSTART;TZID=America/New_York:20230603T103000
DTEND;TZID=America/New_York:20230603T120000
DTSTAMP:20260423T170019
CREATED:20230720T131507Z
LAST-MODIFIED:20230720T131507Z
UID:666-1685788200-1685793600@joannegerber.com
SUMMARY:Spiritual Development Continuation Classes
DESCRIPTION:Intermediate Level with Reverend Joanne Gerber via Zoom: Spring Session – Class 7
URL:https://joannegerber.com/event/spiritual-development-continuation-classes-7/
CATEGORIES:Classes,Online Events
END:VEVENT
BEGIN:VEVENT
DTSTART;TZID=America/New_York:20230521T103000
DTEND;TZID=America/New_York:20230521T120000
DTSTAMP:20260423T170019
CREATED:20230720T131858Z
LAST-MODIFIED:20230720T150056Z
UID:686-1684665000-1684670400@joannegerber.com
SUMMARY:Reverend Joanne Gerber Lecture and Mediumship Demonstration
DESCRIPTION:Live & via ZOOM at Sunday Service at The Swampscott Spiritualist Church\, 59 Burrill Street\, Swampscott\, MA 01907
URL:https://joannegerber.com/event/reverend-joanne-gerber-lecture-and-mediumship-demonstration-2/
CATEGORIES:In Person Event,Online Events
END:VEVENT
BEGIN:VEVENT
DTSTART;TZID=America/New_York:20230520T103000
DTEND;TZID=America/New_York:20230520T120000
DTSTAMP:20260423T170019
CREATED:20230720T131507Z
LAST-MODIFIED:20230720T131507Z
UID:665-1684578600-1684584000@joannegerber.com
SUMMARY:Spiritual Development Continuation Classes
DESCRIPTION:Intermediate Level with Reverend Joanne Gerber via Zoom: Spring Session – Class 6
URL:https://joannegerber.com/event/spiritual-development-continuation-classes-6/
CATEGORIES:Classes,Online Events
END:VEVENT
BEGIN:VEVENT
DTSTART;TZID=America/New_York:20230506T103000
DTEND;TZID=America/New_York:20230506T120000
DTSTAMP:20260423T170019
CREATED:20230720T131453Z
LAST-MODIFIED:20230720T131453Z
UID:664-1683369000-1683374400@joannegerber.com
SUMMARY:Spiritual Development Continuation Classes
DESCRIPTION:Intermediate Level with Reverend Joanne Gerber via Zoom: Spring Session – Class 5
URL:https://joannegerber.com/event/spiritual-development-continuation-classes-5/
CATEGORIES:Classes,Online Events
END:VEVENT
BEGIN:VEVENT
DTSTART;TZID=America/New_York:20230430T110000
DTEND;TZID=America/New_York:20230430T123000
DTSTAMP:20260423T170019
CREATED:20230720T131857Z
LAST-MODIFIED:20230720T150056Z
UID:685-1682852400-1682857800@joannegerber.com
SUMMARY:Reverend Joanne Gerber Lecture and Mediumship Demonstration
DESCRIPTION:Live & via ZOOM at Sunday Service at The First Spiritualist Church of Quincy\, 40 West Street\, Quincy\, MA
URL:https://joannegerber.com/event/reverend-joanne-gerber-lecture-and-mediumship-demonstration/
CATEGORIES:In Person Event,Online Events
END:VEVENT
BEGIN:VEVENT
DTSTART;TZID=America/New_York:20230422T103000
DTEND;TZID=America/New_York:20230422T120000
DTSTAMP:20260423T170019
CREATED:20230720T131452Z
LAST-MODIFIED:20230720T131452Z
UID:663-1682159400-1682164800@joannegerber.com
SUMMARY:Spiritual Development Continuation Classes
DESCRIPTION:Intermediate Level with Reverend Joanne Gerber via Zoom: Spring Session – Class 4
URL:https://joannegerber.com/event/spiritual-development-continuation-classes-4/
CATEGORIES:Classes,Online Events
END:VEVENT
BEGIN:VEVENT
DTSTART;TZID=America/New_York:20230408T103000
DTEND;TZID=America/New_York:20230408T120000
DTSTAMP:20260423T170019
CREATED:20230720T131452Z
LAST-MODIFIED:20230720T131452Z
UID:662-1680949800-1680955200@joannegerber.com
SUMMARY:Spiritual Development Continuation Classes
DESCRIPTION:Intermediate Level with Reverend Joanne Gerber via Zoom: Spring Session – Class 3
URL:https://joannegerber.com/event/spiritual-development-continuation-classes-3/
CATEGORIES:Classes,Online Events
END:VEVENT
BEGIN:VEVENT
DTSTART;TZID=America/New_York:20230325T103000
DTEND;TZID=America/New_York:20230325T120000
DTSTAMP:20260423T170019
CREATED:20230720T131451Z
LAST-MODIFIED:20230720T131451Z
UID:661-1679740200-1679745600@joannegerber.com
SUMMARY:Spiritual Development Continuation Classes
DESCRIPTION:Intermediate Level with Reverend Joanne Gerber via Zoom: Spring Session – Class 2
URL:https://joannegerber.com/event/spiritual-development-continuation-classes-2/
CATEGORIES:Classes,Online Events
END:VEVENT
BEGIN:VEVENT
DTSTART;TZID=America/New_York:20230316T190000
DTEND;TZID=America/New_York:20230316T203000
DTSTAMP:20260423T170019
CREATED:20230720T131449Z
LAST-MODIFIED:20230720T131559Z
UID:659-1678993200-1678998600@joannegerber.com
SUMMARY:Accessing Your Intuition - Twelve Week Remote Class
DESCRIPTION:Beginner Level Psychic and Spiritual Development Class with Reverend Joanne Gerber (makeup for class #6)
URL:https://joannegerber.com/event/accessing-your-intuition-twelve-week-remote-class-5/
CATEGORIES:Classes,Online Events
END:VEVENT
BEGIN:VEVENT
DTSTART;TZID=America/New_York:20230304T103000
DTEND;TZID=America/New_York:20230304T120000
DTSTAMP:20260423T170019
CREATED:20230720T131450Z
LAST-MODIFIED:20230720T131450Z
UID:660-1677925800-1677931200@joannegerber.com
SUMMARY:Spiritual Development Continuation Classes
DESCRIPTION:Intermediate Level with Reverend Joanne Gerber via Zoom: Spring Session – Class 1
URL:https://joannegerber.com/event/spiritual-development-continuation-classes/
CATEGORIES:Classes,Online Events
END:VEVENT
BEGIN:VEVENT
DTSTART;TZID=America/New_York:20230223T190000
DTEND;TZID=America/New_York:20230223T203000
DTSTAMP:20260423T170019
CREATED:20230720T131448Z
LAST-MODIFIED:20230720T131448Z
UID:658-1677178800-1677184200@joannegerber.com
SUMMARY:Accessing Your Intuition - Twelve Week Remote Class
DESCRIPTION:Beginner Level Psychic and Spiritual Development Class with Reverend Joanne Gerber – Class 12
URL:https://joannegerber.com/event/accessing-your-intuition-twelve-week-remote-class-4/
CATEGORIES:Classes,Online Events
END:VEVENT
BEGIN:VEVENT
DTSTART;TZID=America/New_York:20230209T190000
DTEND;TZID=America/New_York:20230209T203000
DTSTAMP:20260423T170019
CREATED:20230720T131448Z
LAST-MODIFIED:20230720T131448Z
UID:657-1675969200-1675974600@joannegerber.com
SUMMARY:Accessing Your Intuition - Twelve Week Remote Class
DESCRIPTION:Beginner Level Psychic and Spiritual Development Class with Reverend Joanne Gerber – Class 11
URL:https://joannegerber.com/event/accessing-your-intuition-twelve-week-remote-class-3/
CATEGORIES:Classes,Online Events
END:VEVENT
BEGIN:VEVENT
DTSTART;TZID=America/New_York:20230126T190000
DTEND;TZID=America/New_York:20230126T203000
DTSTAMP:20260423T170019
CREATED:20230720T131447Z
LAST-MODIFIED:20230720T131447Z
UID:656-1674759600-1674765000@joannegerber.com
SUMMARY:Accessing Your Intuition - Twelve Week Remote Class
DESCRIPTION:Beginner Level Psychic and Spiritual Development Class with Reverend Joanne Gerber – Class 10
URL:https://joannegerber.com/event/accessing-your-intuition-twelve-week-remote-class-2/
CATEGORIES:Classes,Online Events
END:VEVENT
BEGIN:VEVENT
DTSTART;TZID=America/New_York:20230112T190000
DTEND;TZID=America/New_York:20230112T203000
DTSTAMP:20260423T170019
CREATED:20230720T131445Z
LAST-MODIFIED:20230720T131445Z
UID:655-1673550000-1673555400@joannegerber.com
SUMMARY:Accessing Your Intuition - Twelve Week Remote Class
DESCRIPTION:Beginner Level Psychic and Spiritual Development Class with Reverend Joanne Gerber – Class 9
URL:https://joannegerber.com/event/accessing-your-intuition-twelve-week-remote-class/
CATEGORIES:Classes,Online Events
END:VEVENT
END:VCALENDAR