BEGIN:VCALENDAR
VERSION:2.0
PRODID:-//Joanne Gerber - ECPv6.15.20//NONSGML v1.0//EN
CALSCALE:GREGORIAN
METHOD:PUBLISH
X-WR-CALNAME:Joanne Gerber
X-ORIGINAL-URL:https://joannegerber.com
X-WR-CALDESC:Events for Joanne Gerber
REFRESH-INTERVAL;VALUE=DURATION:PT1H
X-Robots-Tag:noindex
X-PUBLISHED-TTL:PT1H
BEGIN:VTIMEZONE
TZID:America/New_York
BEGIN:DAYLIGHT
TZOFFSETFROM:-0500
TZOFFSETTO:-0400
TZNAME:EDT
DTSTART:20220313T070000
END:DAYLIGHT
BEGIN:STANDARD
TZOFFSETFROM:-0400
TZOFFSETTO:-0500
TZNAME:EST
DTSTART:20221106T060000
END:STANDARD
BEGIN:DAYLIGHT
TZOFFSETFROM:-0500
TZOFFSETTO:-0400
TZNAME:EDT
DTSTART:20230312T070000
END:DAYLIGHT
BEGIN:STANDARD
TZOFFSETFROM:-0400
TZOFFSETTO:-0500
TZNAME:EST
DTSTART:20231105T060000
END:STANDARD
BEGIN:DAYLIGHT
TZOFFSETFROM:-0500
TZOFFSETTO:-0400
TZNAME:EDT
DTSTART:20240310T070000
END:DAYLIGHT
BEGIN:STANDARD
TZOFFSETFROM:-0400
TZOFFSETTO:-0500
TZNAME:EST
DTSTART:20241103T060000
END:STANDARD
END:VTIMEZONE
BEGIN:VEVENT
DTSTART;TZID=America/New_York:20230422T103000
DTEND;TZID=America/New_York:20230422T120000
DTSTAMP:20260423T195440
CREATED:20230720T131452Z
LAST-MODIFIED:20230720T131452Z
UID:663-1682159400-1682164800@joannegerber.com
SUMMARY:Spiritual Development Continuation Classes
DESCRIPTION:Intermediate Level with Reverend Joanne Gerber via Zoom: Spring Session – Class 4
URL:https://joannegerber.com/event/spiritual-development-continuation-classes-4/
CATEGORIES:Classes,Online Events
END:VEVENT
BEGIN:VEVENT
DTSTART;TZID=America/New_York:20230408T103000
DTEND;TZID=America/New_York:20230408T120000
DTSTAMP:20260423T195440
CREATED:20230720T131452Z
LAST-MODIFIED:20230720T131452Z
UID:662-1680949800-1680955200@joannegerber.com
SUMMARY:Spiritual Development Continuation Classes
DESCRIPTION:Intermediate Level with Reverend Joanne Gerber via Zoom: Spring Session – Class 3
URL:https://joannegerber.com/event/spiritual-development-continuation-classes-3/
CATEGORIES:Classes,Online Events
END:VEVENT
BEGIN:VEVENT
DTSTART;TZID=America/New_York:20230325T103000
DTEND;TZID=America/New_York:20230325T120000
DTSTAMP:20260423T195440
CREATED:20230720T131451Z
LAST-MODIFIED:20230720T131451Z
UID:661-1679740200-1679745600@joannegerber.com
SUMMARY:Spiritual Development Continuation Classes
DESCRIPTION:Intermediate Level with Reverend Joanne Gerber via Zoom: Spring Session – Class 2
URL:https://joannegerber.com/event/spiritual-development-continuation-classes-2/
CATEGORIES:Classes,Online Events
END:VEVENT
BEGIN:VEVENT
DTSTART;TZID=America/New_York:20230316T190000
DTEND;TZID=America/New_York:20230316T203000
DTSTAMP:20260423T195440
CREATED:20230720T131449Z
LAST-MODIFIED:20230720T131559Z
UID:659-1678993200-1678998600@joannegerber.com
SUMMARY:Accessing Your Intuition - Twelve Week Remote Class
DESCRIPTION:Beginner Level Psychic and Spiritual Development Class with Reverend Joanne Gerber (makeup for class #6)
URL:https://joannegerber.com/event/accessing-your-intuition-twelve-week-remote-class-5/
CATEGORIES:Classes,Online Events
END:VEVENT
BEGIN:VEVENT
DTSTART;TZID=America/New_York:20230304T103000
DTEND;TZID=America/New_York:20230304T120000
DTSTAMP:20260423T195440
CREATED:20230720T131450Z
LAST-MODIFIED:20230720T131450Z
UID:660-1677925800-1677931200@joannegerber.com
SUMMARY:Spiritual Development Continuation Classes
DESCRIPTION:Intermediate Level with Reverend Joanne Gerber via Zoom: Spring Session – Class 1
URL:https://joannegerber.com/event/spiritual-development-continuation-classes/
CATEGORIES:Classes,Online Events
END:VEVENT
BEGIN:VEVENT
DTSTART;TZID=America/New_York:20230223T190000
DTEND;TZID=America/New_York:20230223T203000
DTSTAMP:20260423T195440
CREATED:20230720T131448Z
LAST-MODIFIED:20230720T131448Z
UID:658-1677178800-1677184200@joannegerber.com
SUMMARY:Accessing Your Intuition - Twelve Week Remote Class
DESCRIPTION:Beginner Level Psychic and Spiritual Development Class with Reverend Joanne Gerber – Class 12
URL:https://joannegerber.com/event/accessing-your-intuition-twelve-week-remote-class-4/
CATEGORIES:Classes,Online Events
END:VEVENT
BEGIN:VEVENT
DTSTART;TZID=America/New_York:20230209T190000
DTEND;TZID=America/New_York:20230209T203000
DTSTAMP:20260423T195440
CREATED:20230720T131448Z
LAST-MODIFIED:20230720T131448Z
UID:657-1675969200-1675974600@joannegerber.com
SUMMARY:Accessing Your Intuition - Twelve Week Remote Class
DESCRIPTION:Beginner Level Psychic and Spiritual Development Class with Reverend Joanne Gerber – Class 11
URL:https://joannegerber.com/event/accessing-your-intuition-twelve-week-remote-class-3/
CATEGORIES:Classes,Online Events
END:VEVENT
BEGIN:VEVENT
DTSTART;TZID=America/New_York:20230126T190000
DTEND;TZID=America/New_York:20230126T203000
DTSTAMP:20260423T195440
CREATED:20230720T131447Z
LAST-MODIFIED:20230720T131447Z
UID:656-1674759600-1674765000@joannegerber.com
SUMMARY:Accessing Your Intuition - Twelve Week Remote Class
DESCRIPTION:Beginner Level Psychic and Spiritual Development Class with Reverend Joanne Gerber – Class 10
URL:https://joannegerber.com/event/accessing-your-intuition-twelve-week-remote-class-2/
CATEGORIES:Classes,Online Events
END:VEVENT
BEGIN:VEVENT
DTSTART;TZID=America/New_York:20230112T190000
DTEND;TZID=America/New_York:20230112T203000
DTSTAMP:20260423T195440
CREATED:20230720T131445Z
LAST-MODIFIED:20230720T131445Z
UID:655-1673550000-1673555400@joannegerber.com
SUMMARY:Accessing Your Intuition - Twelve Week Remote Class
DESCRIPTION:Beginner Level Psychic and Spiritual Development Class with Reverend Joanne Gerber – Class 9
URL:https://joannegerber.com/event/accessing-your-intuition-twelve-week-remote-class/
CATEGORIES:Classes,Online Events
END:VEVENT
END:VCALENDAR